BEGIN:VCALENDAR
VERSION:2.0
PRODID:-//The Marbella Directory - ECPv6.15.18//NONSGML v1.0//EN
CALSCALE:GREGORIAN
METHOD:PUBLISH
X-WR-CALNAME:The Marbella Directory
X-ORIGINAL-URL:https://themarbelladirectory.com
X-WR-CALDESC:Events for The Marbella Directory
REFRESH-INTERVAL;VALUE=DURATION:PT1H
X-Robots-Tag:noindex
X-PUBLISHED-TTL:PT1H
BEGIN:VTIMEZONE
TZID:Europe/Madrid
BEGIN:DAYLIGHT
TZOFFSETFROM:+0100
TZOFFSETTO:+0200
TZNAME:CEST
DTSTART:20250330T010000
END:DAYLIGHT
BEGIN:STANDARD
TZOFFSETFROM:+0200
TZOFFSETTO:+0100
TZNAME:CET
DTSTART:20251026T010000
END:STANDARD
BEGIN:DAYLIGHT
TZOFFSETFROM:+0100
TZOFFSETTO:+0200
TZNAME:CEST
DTSTART:20260329T010000
END:DAYLIGHT
BEGIN:STANDARD
TZOFFSETFROM:+0200
TZOFFSETTO:+0100
TZNAME:CET
DTSTART:20261025T010000
END:STANDARD
BEGIN:DAYLIGHT
TZOFFSETFROM:+0100
TZOFFSETTO:+0200
TZNAME:CEST
DTSTART:20270328T010000
END:DAYLIGHT
BEGIN:STANDARD
TZOFFSETFROM:+0200
TZOFFSETTO:+0100
TZNAME:CET
DTSTART:20271031T010000
END:STANDARD
END:VTIMEZONE
BEGIN:VEVENT
DTSTART;TZID=Europe/Madrid:20260301T170000
DTEND;TZID=Europe/Madrid:20260301T213000
DTSTAMP:20260422T053948
CREATED:20260301T155251Z
LAST-MODIFIED:20260301T155251Z
UID:10001950-1772384400-1772400600@themarbelladirectory.com
SUMMARY:Marisol Bizcocho – Acoustic Tour Resilience
DESCRIPTION:Marisol Bizcocho Brings “Acoustic Tour Resilience” to Málaga\nThe acclaimed Spanish singer Marisol Bizcocho performs in Málaga on Sunday\, March 1\, 2026. This highly anticipated event at the Teatro ESAD Málaga marks a significant stop on her national Acoustic Resilience Tour. Known for her emotive voice and heartfelt lyrics\, Marisol provides an intimate atmosphere where moving melodies and powerful vocals take center stage. Specifically\, this tour serves as a soulful journey that celebrates the artist’s growth and her unique ability to blend traditional Spanish sounds with contemporary acoustic elements. \nA Journey of Resilience and Soulful Melodies\nMarisol Bizcocho has established herself as a prominent figure in the Spanish music scene\, evolving from a local talent into a national sensation. Her “Acoustic Tour Resilience” highlights her dedication to sharing music that fosters deep emotional connections with her audience. Furthermore\, the performance creates an unforgettable experience filled with passion and artistic resilience. Consequently\, attendees can expect a night that honors the power of live music and the enduring spirit of Spanish artistry. \nExperience the Intimacy of Teatro ESAD\nThe venue\, Teatro ESAD Málaga\, provides a professional and inviting setting perfect for an acoustic showcase. Located within the Higher School of Dramatic Art of Málaga\, the theater is a hub for cultural expression and high-quality performances. Because this is a free admission event\, it offers a unique opportunity for fans and newcomers alike to witness Marisol’s talent in an intimate venue. Therefore\, arriving early is recommended to ensure you do not miss this highlight of Málaga’s 2026 musical calendar. \nEvent Schedule \n\nDate: Sunday\, March 1\, 2026\nTime: 17:00 – 21:00 (5:00 PM – 9:00 PM)\nVenue: Teatro ESAD Málaga\nAdmission: Free Entry
URL:https://themarbelladirectory.com/event/marisol-bizcocho-acoustic-resilience-tour-malaga-2026/
LOCATION:Teatro ESAD Málaga\, C/ Béla Bartók\, 2\, 29010 Málaga\, Málaga\, Málaga\, 29010\, Spain
CATEGORIES:Art,entertainment,Live Performance,Live Show,Music Events
ATTACH;FMTTYPE=image/avif:https://themarbelladirectory.com/wp-content/uploads/2026/03/poster_3PWPlUr.avif
END:VEVENT
BEGIN:VEVENT
DTSTART;TZID=Europe/Madrid:20260311T220000
DTEND;TZID=Europe/Madrid:20260312T000000
DTSTAMP:20260422T053948
CREATED:20260310T161007Z
LAST-MODIFIED:20260310T161007Z
UID:10001979-1773266400-1773273600@themarbelladirectory.com
SUMMARY:Oh See! Málaga Launch Party
DESCRIPTION:Oh See! Málaga Launch Party Arrives at Velvet Club\nThe highly anticipated Oh See! Málaga Launch Party takes place on Wednesday\, March 11\, 2026\, in the heart of the city. This vibrant celebration at Velvet Club Málaga serves as the official kick-off for the renowned Oh See! festival season. Specifically\, the event offers an evening of high-energy music\, exclusive surprises\, and a festive atmosphere designed to connect the local community with the festival’s spirit. With free entry until full capacity\, it is an unmissable highlight for music lovers in Málaga. \nLive Concerts and Immersive DJ Sessions\nThe night features a dynamic lineup of live performances\, headlined by the infectious energy of Lisasinson. Joining them on stage are local favorites Living Camboya\, who bring their unique sound and fresh energy to the celebration. Furthermore\, the event transitions into the late hours with curated sessions by the Velvet DJs\, ensuring the dance floor remains active throughout the night. Consequently\, the launch party provides a diverse musical journey that spans from live indie-pop to late-night electronic rhythms. \nCelebrate with Giveaways and Special Gifts\nBeyond the music\, attendees can participate in various giveaways and special gifts distributed throughout the evening. This launch party is more than just a concert; it is a relaxed and festive opportunity to discover the latest news and updates regarding the upcoming Oh See! Málaga festival. Because this is a free-entry event in a popular central venue\, arriving early is highly recommended to secure admission before the club reaches its maximum capacity. Therefore\, join the crowd for an unforgettable night of music and community in the center of Málaga. \nEvent Schedule \n\nDate: Wednesday\, March 11\, 2026\nTime: 22:00 – 00:00 (10:00 PM – Midnight)\nVenue: Velvet Club Málaga\nAdmission: Free Entrance (Until full capacity)
URL:https://themarbelladirectory.com/event/oh-see-malaga-launch-party-free-event-2026/
LOCATION:Velvet Club Málaga\, Calle Convalecientes\, 11\, 29008 Málaga\, Spain\, Málaga\, Málaga\, 29008\, Spain
CATEGORIES:Concert,entertainment,Live Performance,Live Show,Music Events,Nightlife
ATTACH;FMTTYPE=image/avif:https://themarbelladirectory.com/wp-content/uploads/2026/03/poster_fNcUKbC.avif
END:VEVENT
END:VCALENDAR