BEGIN:VCALENDAR
VERSION:2.0
PRODID:-//The Marbella Directory - ECPv6.15.18//NONSGML v1.0//EN
CALSCALE:GREGORIAN
METHOD:PUBLISH
X-ORIGINAL-URL:https://themarbelladirectory.com
X-WR-CALDESC:Events for The Marbella Directory
REFRESH-INTERVAL;VALUE=DURATION:PT1H
X-Robots-Tag:noindex
X-PUBLISHED-TTL:PT1H
BEGIN:VTIMEZONE
TZID:Europe/Madrid
BEGIN:DAYLIGHT
TZOFFSETFROM:+0100
TZOFFSETTO:+0200
TZNAME:CEST
DTSTART:20250330T010000
END:DAYLIGHT
BEGIN:STANDARD
TZOFFSETFROM:+0200
TZOFFSETTO:+0100
TZNAME:CET
DTSTART:20251026T010000
END:STANDARD
BEGIN:DAYLIGHT
TZOFFSETFROM:+0100
TZOFFSETTO:+0200
TZNAME:CEST
DTSTART:20260329T010000
END:DAYLIGHT
BEGIN:STANDARD
TZOFFSETFROM:+0200
TZOFFSETTO:+0100
TZNAME:CET
DTSTART:20261025T010000
END:STANDARD
BEGIN:DAYLIGHT
TZOFFSETFROM:+0100
TZOFFSETTO:+0200
TZNAME:CEST
DTSTART:20270328T010000
END:DAYLIGHT
BEGIN:STANDARD
TZOFFSETFROM:+0200
TZOFFSETTO:+0100
TZNAME:CET
DTSTART:20271031T010000
END:STANDARD
END:VTIMEZONE
BEGIN:VEVENT
DTSTART;TZID=Europe/Madrid:20260926T203000
DTEND;TZID=Europe/Madrid:20260926T233000
DTSTAMP:20260421T054542
CREATED:20260326T154729Z
LAST-MODIFIED:20260326T154729Z
UID:10002043-1790454600-1790465400@themarbelladirectory.com
SUMMARY:Raimundo Amador Live in Málaga: 2026 Concert Guide
DESCRIPTION:Experience the Magic of Raimundo Amador at Sala Paris 15\nThe legendary Spanish guitarist Raimundo Amador returns to Málaga on Saturday\, September 26\, 2026. This highly anticipated performance takes place at the iconic Sala Paris 15. Specifically\, the concert is part of his very special tour titled De Pata Negra a Raimundo. This musical journey covers his entire career. Moreover\, it celebrates one of the most influential and free spirits in Spanish music history. For one night only\, fans can witness a masterclass in flamenco fusion and rock. \nA Journey from Pata Negra to Solo Success\nRaimundo Amador is famous for connecting the past with the present. During this tour\, he recovers the essence of Pata Negra. This group was a key pillar in the history of flamenco fusion. Furthermore\, he combines those roots with the most representative songs from his solo career. The repertoire is full of classics and deep emotion. Consequently\, every note reflects the maturity and experience of a unique artist. He brings his guitar and a lifetime of live music to the stage without losing his soul. \nWitness a Masterpiece at Málaga’s Premier Venue\nSala Paris 15 provides the ultimate professional setting for this legendary artist. The venue sits in the San Luis industrial area of Málaga. It features high-quality sound systems that perfectly capture the nuance of his guitar. Doors open at 20:30. The main performance begins at 21:30. Because Raimundo Amador attracts a dedicated following\, tickets often sell out fast. Therefore\, you should book your spot early to ensure entry. Join the local community for a night of authentic Spanish musical heritage. \nEvent Schedule \n\nDate: Saturday\, September 26\, 2026\nDoors Open: 20:30 (8:30 PM)\nConcert Starts: 21:30 (9:30 PM)\nVenue: Sala Paris 15\, Málaga\nTour Title: De Pata Negra a Raimundo\nTicket Price: 27.50 EUR (Advance sale)
URL:https://themarbelladirectory.com/event/raimundo-amador-malaga-concert-2026/
LOCATION:Sala París 15\, Calle la Orotava\, 25\, 27\, 29006 Málaga\, Spain\, Málaga\, Málaga\, 29006\, Spain
CATEGORIES:Concert,entertainment,Live Show,Music Events
ATTACH;FMTTYPE=image/png:https://themarbelladirectory.com/wp-content/uploads/2026/03/salaparis15_raimundoamador_1080x1350-768x960-1.png
ORGANIZER;CN="Orion Producciones S.L.":MAILTO:electronica@paris15.es
END:VEVENT
END:VCALENDAR