BEGIN:VCALENDAR
VERSION:2.0
PRODID:-//The Marbella Directory - ECPv6.15.18//NONSGML v1.0//EN
CALSCALE:GREGORIAN
METHOD:PUBLISH
X-WR-CALNAME:The Marbella Directory
X-ORIGINAL-URL:https://themarbelladirectory.com
X-WR-CALDESC:Events for The Marbella Directory
REFRESH-INTERVAL;VALUE=DURATION:PT1H
X-Robots-Tag:noindex
X-PUBLISHED-TTL:PT1H
BEGIN:VTIMEZONE
TZID:Europe/Madrid
BEGIN:DAYLIGHT
TZOFFSETFROM:+0100
TZOFFSETTO:+0200
TZNAME:CEST
DTSTART:20250330T010000
END:DAYLIGHT
BEGIN:STANDARD
TZOFFSETFROM:+0200
TZOFFSETTO:+0100
TZNAME:CET
DTSTART:20251026T010000
END:STANDARD
BEGIN:DAYLIGHT
TZOFFSETFROM:+0100
TZOFFSETTO:+0200
TZNAME:CEST
DTSTART:20260329T010000
END:DAYLIGHT
BEGIN:STANDARD
TZOFFSETFROM:+0200
TZOFFSETTO:+0100
TZNAME:CET
DTSTART:20261025T010000
END:STANDARD
BEGIN:DAYLIGHT
TZOFFSETFROM:+0100
TZOFFSETTO:+0200
TZNAME:CEST
DTSTART:20270328T010000
END:DAYLIGHT
BEGIN:STANDARD
TZOFFSETFROM:+0200
TZOFFSETTO:+0100
TZNAME:CET
DTSTART:20271031T010000
END:STANDARD
END:VTIMEZONE
BEGIN:VEVENT
DTSTART;TZID=Europe/Madrid:20260112T200000
DTEND;TZID=Europe/Madrid:20260112T220000
DTSTAMP:20260425T142131
CREATED:20251222T025914Z
LAST-MODIFIED:20251222T025914Z
UID:10001487-1768248000-1768255200@themarbelladirectory.com
SUMMARY:Blaubeeren: A Gripping Journey into History and Humanity
DESCRIPTION:Blaubeeren: A Gripping Journey into History and Humanity at Teatro Cervantes\nExperience a profound theatrical masterpiece as Blaubeeren makes its way to the Teatro Cervantes in Málaga. Produced by Barco Pirata in collaboration with Producciones Teatrales Contemporáneas\, this play is based on a script by Moisés Kaufman and Amanda Gronich\, which was a finalist for the 2024 Pulitzer Prize for Drama. Under the direction of Sergio Peris-Mencheta\, this production challenges audiences to confront the complexities of the past and our shared responsibility for the future. \nThe Story Behind the Lens\nThe narrative begins when an album of never-before-seen World War II photographs arrives at the United States Holocaust Memorial Museum. These images depict the daily lives of officers who administered Auschwitz\, the most lethal concentration camp in history. As the story unfolds\, it explores a chilling question: how does one live a mundane\, everyday life right next to a site of mass extermination? \nThe discovery ripples across the globe\, leading a German businessman to recognize his own grandfather in the photos. Consequently\, he embarks on a journey to meet other descendants of Nazi officers\, forcing him to face his family’s dark legacy. \nA Call for Reflection\nDirector Sergio Peris-Mencheta leads a stellar cast\, including Clara Alvarado and Víctor Clavijo\, to bring this historical investigation to life. The play serves as a mirror for our own culture\, asking what responsibility we hold for the unjust systems built by previous generations. Furthermore\, it encourages us to examine our choices and reimagine a collective future through the lessons of the past. \nIn short\, do not miss this powerful exploration of humanity in the heart of Málaga. \n\nEvent Highlights\n\nDate: Monday\, January 12\, 2026\nTime: 8:00 PM (20.00 h)\nTicket Prices: €36 (Zone A)\, €27 (Zone B)\, €20 (Zone C)\, and €12 (Zone D)\nDuration: 1 hour and 30 minutes (without intermission)
URL:https://themarbelladirectory.com/event/blaubeeren-play-teatro-cervantes-malaga-2026/
LOCATION:Teatro Cervantes\, Calle Ramos Marín\, s/n\, Málaga\, Málaga\, 29012
CATEGORIES:entertainment,Live Performance,Live Show
ATTACH;FMTTYPE=image/png:https://themarbelladirectory.com/wp-content/uploads/2025/12/0a4cb464692edbddd270bbc023abe6d0.png
ORGANIZER;CN="Barco Pirata":MAILTO:info@barcopirata.org
END:VEVENT
END:VCALENDAR