BEGIN:VCALENDAR
VERSION:2.0
PRODID:-//The Marbella Directory - ECPv6.15.18//NONSGML v1.0//EN
CALSCALE:GREGORIAN
METHOD:PUBLISH
X-ORIGINAL-URL:https://themarbelladirectory.com
X-WR-CALDESC:Events for The Marbella Directory
REFRESH-INTERVAL;VALUE=DURATION:PT1H
X-Robots-Tag:noindex
X-PUBLISHED-TTL:PT1H
BEGIN:VTIMEZONE
TZID:Europe/Madrid
BEGIN:DAYLIGHT
TZOFFSETFROM:+0100
TZOFFSETTO:+0200
TZNAME:CEST
DTSTART:20240331T010000
END:DAYLIGHT
BEGIN:STANDARD
TZOFFSETFROM:+0200
TZOFFSETTO:+0100
TZNAME:CET
DTSTART:20241027T010000
END:STANDARD
BEGIN:DAYLIGHT
TZOFFSETFROM:+0100
TZOFFSETTO:+0200
TZNAME:CEST
DTSTART:20250330T010000
END:DAYLIGHT
BEGIN:STANDARD
TZOFFSETFROM:+0200
TZOFFSETTO:+0100
TZNAME:CET
DTSTART:20251026T010000
END:STANDARD
BEGIN:DAYLIGHT
TZOFFSETFROM:+0100
TZOFFSETTO:+0200
TZNAME:CEST
DTSTART:20260329T010000
END:DAYLIGHT
BEGIN:STANDARD
TZOFFSETFROM:+0200
TZOFFSETTO:+0100
TZNAME:CET
DTSTART:20261025T010000
END:STANDARD
BEGIN:DAYLIGHT
TZOFFSETFROM:+0100
TZOFFSETTO:+0200
TZNAME:CEST
DTSTART:20270328T010000
END:DAYLIGHT
BEGIN:STANDARD
TZOFFSETFROM:+0200
TZOFFSETTO:+0100
TZNAME:CET
DTSTART:20271031T010000
END:STANDARD
END:VTIMEZONE
BEGIN:VEVENT
DTSTART;TZID=Europe/Madrid:20260411T110000
DTEND;TZID=Europe/Madrid:20260411T130000
DTSTAMP:20260426T051114
CREATED:20260407T052040Z
LAST-MODIFIED:20260407T052040Z
UID:10002170-1775905200-1775912400@themarbelladirectory.com
SUMMARY:Words in Flight: Poetic Workshop with Lina Botero
DESCRIPTION:Explore Poetic Creation at the Words in Flight Workshop\nFirstly\, Marpoética 2026 invites you to explore the depths of your creativity. Acclaimed artist Lina Botero will lead the “Words in Flight” workshop at the Central Library in Marbella. Specifically\, this immersive experience encourages participants to explore their subconscious through experimental writing techniques. The session offers a unique environment where random words and images transform into powerful poetic expressions. \nThe workshop consists of three distinct creative phases. Initially\, participants engage in automatic writing exercises to free their thoughts and discover the unexpected. Following this\, the group collects shared words in a creative circle. This process allows participants to turn collective inspiration into personal poetic texts. Consequently\, the workshop bridges the gap between communal energy and individual voice. \nBuilding Narrative through Images\nMoreover\, the final phase introduces visual elements into the creative process. Participants select photographs from a curated collection to build a story or a poem. This exercise focuses on constructing a poetic self-portrait that acts as a foundational myth for the creator. By connecting words with images\, the workshop frees artists from traditional constraints. Therefore\, it fosters an environment where impulse and imagination drive the entire creative journey. \nFinally\, this event celebrates the power of surrealism and experimentation. It is a perfect opportunity for those looking to expand their literary horizons in a supportive setting. Join the cultural community in Marbella for a two-hour journey into the heart of poetic imagination. \nEvent Schedule and Venue\n\nDate: Saturday\, April 11\, 2026\nTime: 11:00 AM to 1:00 PM (11:00 – 13:00)\nVenue: Biblioteca Central Fernando Alcalá Marín\nLocation: Parque de la Constitución\, Marbella\nPrice: Free Entry (Prior registration required)\n\n\nRegistration and Ticket Information\nOfficial Registration: Reserve Your Spot on Marpoética \nEvent Details: View on TeVienes
URL:https://themarbelladirectory.com/event/words-in-flight-workshop-marpoetica-marbella/
LOCATION:Biblioteca Central Fernando Alcalá Marín\, Avenida Arias de Velasco\, s/n (Parque de la Constitución)\, 29601 Marbella\, Málaga\, Spain\, Marbella\, Málaga\, 29601\, Spain
CATEGORIES:Activity,entertainment,Workshop
ATTACH;FMTTYPE=image/avif:https://themarbelladirectory.com/wp-content/uploads/2026/04/poster_HGTmTyT.avif
ORGANIZER;CN="Ayuntamiento de Marbella":MAILTO:fiestas@marbella.es
END:VEVENT
BEGIN:VEVENT
DTSTART;TZID=Europe/Madrid:20260411T103000
DTEND;TZID=Europe/Madrid:20260411T130000
DTSTAMP:20260426T051114
CREATED:20260407T045034Z
LAST-MODIFIED:20260407T045034Z
UID:10002167-1775903400-1775912400@themarbelladirectory.com
SUMMARY:Poetic Path: A Nature Walk with Andrés Neuman in Marbella
DESCRIPTION:Experience the Fusion of Nature and Literature on the Poetic Path \nMarbella welcomes the acclaimed writer Andrés Neuman for a unique literary journey through the local landscape. This special event\, known as the Poetic Path\, invites participants to step outside the traditional library setting and into the tranquility of the outdoors. As part of the Marpoética 2026 international poetry festival\, this guided walk offers a rare opportunity to connect with one of the most influential voices in modern Spanish literature while exploring the natural beauty of the Sierra de Marbella. \nA Literary Journey through the Mountains \nAndrés Neuman will lead a scenic circular route\, sharing original poems specifically created for the natural surroundings of the Nagüeles area. This easy yet enriching walk allows for reflection and shared inspiration among attendees. For three hours\, the art of poetry merges with the environment\, transforming the mountain trail into a moving performance space. It is a perfect plan for both literature enthusiasts and nature lovers who seek a meaningful connection between the written word and the physical world. \nProfessional Guidance and Participation \nBorn in Buenos Aires and based in Granada\, Andrés Neuman is a multi-award-winning novelist and poet. His involvement in Marpoética 2026 highlights the festival’s mission to bring poetry into unconventional urban and natural spaces. Because this activity takes place in a protected natural area\, participants are encouraged to wear appropriate footwear and bring water to ensure a comfortable experience. \nThe session is open to the public\, providing an accessible way to engage with high-level culture. However\, because spaces are strictly limited for safety and group quality\, prior registration is essential to secure your place on this poetic trail. \nEvent Schedule and Venue \n\nDate: Saturday\, April 11\, 2026\nTime: 10:30 to 13:00 (10:30 AM – 1:00 PM)\nVenue: Sendero Los Monjes – Mina de Buenavista – Nagüeles PR-A 428\nPrice: Free Entry (Registration required)\n\n\nTicket and Registration Information\n\nOfficial Registration: Reserve Your Spot on Marpoética\nEvent Info: View on Te Vienes
URL:https://themarbelladirectory.com/event/poetic-path-a-nature-walk-with-andres-neuman-in-marbella/
LOCATION:Sendero Los Monjes – Mina de Buenavista (Nagüeles PR-A 428)\, 3 Arrabal Guadalpín Norte\, 29602 Marbella\, Málaga\, Spain\, Marbella\, Málaga\, 29602\, Spain
CATEGORIES:Activity,entertainment,Nature & adventure,Outdoor Attraction,Outdoor sports
ATTACH;FMTTYPE=image/avif:https://themarbelladirectory.com/wp-content/uploads/2026/04/logo_7kkb21x.avif
ORGANIZER;CN="Ayuntamiento de Marbella":MAILTO:fiestas@marbella.es
END:VEVENT
BEGIN:VEVENT
DTSTART;TZID=Europe/Madrid:20260410T190000
DTEND;TZID=Europe/Madrid:20260410T203000
DTSTAMP:20260426T051114
CREATED:20260406T140643Z
LAST-MODIFIED:20260406T140643Z
UID:10002165-1775847600-1775853000@themarbelladirectory.com
SUMMARY:Alejandro Pedregosa Presents New Book at Marpoética 2026
DESCRIPTION:Experience a Literary Highlight at Marpoética 2026\nFirstly\, discover the cultural highlights of Marpoética 2026 this April in Marbella. Renowned author Alejandro Pedregosa presents his latest work\, “What I Know About Whitney Houston\,” in a highly anticipated literary meeting. This event takes place on Friday\, April 10\, at the historic Hospital Real de la Misericordia. As a featured editorial release of the festival\, the presentation offers a unique opportunity for poetry and fiction enthusiasts to connect with a master of contemporary Spanish literature. \nAbout the Author and the Work\nAlejandro Pedregosa is a celebrated novelist and poet originally from Granada. Throughout his career\, he has earned prestigious accolades. For instance\, he received the Andalusian Critics’ Prize and the Arcipreste de Hita Poetry Prize. His work spans various genres\, including short stories and complex narratives. In his latest book\, Pedregosa continues to explore the boundaries of language and emotion. Furthermore\, his deep childhood connection to Marbella adds a personal and meaningful layer to this specific festival appearance. \nA Professional Cultural Setting\nThe Hospital Real de la Misericordia\, also known as El Hospitalillo\, serves as the primary venue for this gathering. This site remains a central hub for the Marpoética international poetry festival. Because of its historic atmosphere\, the venue provides the perfect backdrop for intellectual discussion and artistic celebration. Attendees will gain insight into the creative process while celebrating the vibrant arts scene of the Costa del Sol. \nFinally\, ensure you arrive early to secure your place in this intimate setting. The event is part of a broader mission to reinforce Marbella as a global destination for high-level cultural gatherings. Whether you are a dedicated follower of Spanish poetry or simply looking for enriching things to do in Marbella\, this presentation is a standout choice for your April calendar. \nEvent Schedule and Participation \nThe session is open to the public and provides an accessible way to engage with award-winning literature. \n\nDate: Friday\, April 10\, 2026\nTime: 19:00 to 20:30 (7:00 PM – 8:30 PM)\nVenue: Hospital Real de la Misericordia (Hospitalillo)\nPrice: Free Entry\n\n\nTicket and Information Information\n\nOfficial Festival Website: Marpoética Marbella\nEvent Link: View on Te Vienes
URL:https://themarbelladirectory.com/event/alejandro-pedregosa-marpoetica-2026-marbella/
LOCATION:Hospital Real de la Misericordia\, Plaza de San Bernabé\, s/n\, 29601 Marbella\, Málaga\, Spain\, Marbella\, Málaga\, 29601\, Spain
CATEGORIES:Charity,Health & Wellness,Health and Medical
ATTACH;FMTTYPE=image/avif:https://themarbelladirectory.com/wp-content/uploads/2026/04/poster_7T5LOAp.avif
ORGANIZER;CN="Ayuntamiento de Marbella":MAILTO:fiestas@marbella.es
END:VEVENT
BEGIN:VEVENT
DTSTART;TZID=Europe/Madrid:20260409T200000
DTEND;TZID=Europe/Madrid:20260409T230000
DTSTAMP:20260426T051114
CREATED:20260406T054355Z
LAST-MODIFIED:20260406T054355Z
UID:10002161-1775764800-1775775600@themarbelladirectory.com
SUMMARY:Marpoética 2026 Opening: A Night of Poetry and Music
DESCRIPTION:Experience the Prestigious Start of the Marpoética 2026 Festival\nFirstly\, start your cultural journey at the Marpoética festival. This event serves as a cornerstone of life on the Costa del Sol. Specifically\, the opening event brings together renowned figures from the worlds of literature and music at the Teatro Ciudad de Marbella. Consequently\, attendees will enjoy an evening defined by intellectual depth and artistic beauty. \nThe program begins with a captivating dialogue between two celebrated poets. Renowned writers Piedad Bonnett and Javier Vicedo will explore the nuances of contemporary poetry and the creative process. Furthermore\, this intellectual exchange offers a rare opportunity to hear from leading voices in the literary world. Therefore\, these experts will perfectly set the stage for a festival dedicated to the power of words. \nA Soulful Musical Conclusion\nFollowing the discussion\, the evening will transition into a live musical performance. The concert features La Tania\, an artist famous for her ability to transport audiences through a unique blend of traditional and contemporary sounds. Consequently\, her performance will provide a moving and soulful conclusion to this landmark cultural celebration. \nImportant Attendance Information\nInterested guests must follow specific entry requirements. Although the event is free to attend\, the organizers manage entry strictly through prior invitation. Therefore\, guests must collect invitations from the venue box office a few days before the opening night. Because demand for Marpoética events is high\, we recommend early collection since capacity is limited. \nSchedule and Venue Details\nThe event takes place on the evening of April 9\, 2026. Doors typically open shortly before the scheduled start time. This allows guests to find their seats for this three-hour cultural showcase. \n\nDate: April 9\, 2026\nTime: 20:00 to 23:00\nVenue: Teatro Ciudad de Marbella\nLocation: Plaza Ramon Martinez\, Marbella
URL:https://themarbelladirectory.com/event/marpoetica-2026-opening-a-night-of-poetry-and-music/
LOCATION:Teatro Ciudad de Marbella\, Plaza Ramón Bazán\, s/n\, 29601 Marbella\, Málaga\, Spain\, Málaga\, Málaga\, 29601\, Spain
CATEGORIES:Art,entertainment,Live Performance,Music Events
ATTACH;FMTTYPE=image/avif:https://themarbelladirectory.com/wp-content/uploads/2026/04/poster_574kBqf.avif
ORGANIZER;CN="Ayuntamiento de Marbella":MAILTO:fiestas@marbella.es
END:VEVENT
BEGIN:VEVENT
DTSTART;TZID=Europe/Madrid:20260105T170000
DTEND;TZID=Europe/Madrid:20260106T210000
DTSTAMP:20260426T051114
CREATED:20251127T123853Z
LAST-MODIFIED:20251231T150540Z
UID:10000594-1767632400-1767733200@themarbelladirectory.com
SUMMARY:Marbella Three Kings Parade 2026
DESCRIPTION:Experience the Magic: The Three Kings Celebration in Marbella 2026\nIn Spain\, the Christmas season reaches its peak not on December 25th\, but on Three Kings Day (Día de los Reyes Magos). Marbella celebrates this holiday with one of the most spectacular events of the year: the Cabalgata de Reyes Magos (Three Kings Parade). \nThis cherished Spanish tradition marks the arrival of the Three Wise Men—Melchior\, Gaspar\, and Balthazar—who bring gifts to children on the night of January 5th. \nWhat to Expect at the Parade: \n\nDazzling Floats: The procession features elaborately decorated floats\, vibrant music\, and hundreds of costumed participants.\nSweet Showers: The Three Kings and their entourage throw thousands of sweets and small gifts into the eager crowds lining the streets. Bring a bag or an upside-down umbrella to collect your treats!\nThe Arrival: The Kings often make a spectacular entrance\, sometimes arriving by boat at the Puerto Deportivo before the main parade begins.\n\nThe Spanish Tradition: January 6th is a national holiday when families gather to open the gifts left by the Kings and share the traditional Roscón de Reyes (a sweet ring-shaped cake with a hidden surprise).
URL:https://themarbelladirectory.com/event/marbella-three-kings-parade-cabalgata-reyes-2026/
LOCATION:Marbella Town Centre Streets\, Starts near Pirulí\, Marbella\, Málaga\, Spain
CATEGORIES:Activity,Christmas,entertainment,Festival,Public Fair
ATTACH;FMTTYPE=image/webp:https://themarbelladirectory.com/wp-content/uploads/2025/11/marbella-3-kings-parade-1.webp
ORGANIZER;CN="Ayuntamiento de Marbella":MAILTO:fiestas@marbella.es
END:VEVENT
BEGIN:VEVENT
DTSTART;TZID=Europe/Madrid:20251129T200000
DTEND;TZID=Europe/Madrid:20251129T230000
DTSTAMP:20260426T051114
CREATED:20251126T035147Z
LAST-MODIFIED:20251126T035147Z
UID:10000581-1764446400-1764457200@themarbelladirectory.com
SUMMARY:Flamenco Zambomba – Christmas Lights Switch-On
DESCRIPTION:Flamenco Zambomba & Christmas Lights Switch-On in Marbella 2025\nGet ready for the festive season! The official Marbella Christmas Lights Switch-On (Encendido de Navidad) happens on Saturday\, November 29\, 2025. This event marks the start of the holiday celebrations in the city center. \nThe event is free to attend. It begins at 8:00 PM (20:00) with the grand illumination. The beautiful lights will switch on along Avenida Ramón y Cajal. \nThe night’s main highlight is the spectacular Flamenco Zambomba. This is a traditional Andalusian Christmas celebration. The show is titled “Vienen de Jerez.” It brings the authentic spirit of Jerez to Marbella. \nAttendees will enjoy powerful Christmas carols and villancicos flamencos. The line-up includes renowned flamenco artists. Look forward to performances by legends like Capullo de Jerez\, Diego Carrasco\, Maloko Soto\, and Rafael Soto. \nThe concert takes place in the Parque de la Alameda (Alameda Park). It starts immediately after the lights switch-on. Experience the joy and passion of a true Andalusian Christmas!
URL:https://themarbelladirectory.com/event/flamenco-zambomba-christmas-lights-marbella-2025/
LOCATION:Parque de la Alameda\, Av. Ramón y Cajal\, s/n\, 29602\, Marbella\, Málaga\, 29602\, Spain
CATEGORIES:Christmas,Music Events
ATTACH;FMTTYPE=image/webp:https://themarbelladirectory.com/wp-content/uploads/2025/11/poster_hUOVErc.webp
ORGANIZER;CN="Ayuntamiento de Marbella":MAILTO:fiestas@marbella.es
END:VEVENT
BEGIN:VEVENT
DTSTART;TZID=Europe/Madrid:20251127T200000
DTEND;TZID=Europe/Madrid:20251127T220000
DTSTAMP:20260426T051114
CREATED:20251126T033806Z
LAST-MODIFIED:20251126T034759Z
UID:10000580-1764273600-1764280800@themarbelladirectory.com
SUMMARY:Pitingo Christmas Concert in Marbella (San Pedro Alcántara) 2025
DESCRIPTION:Kick off the festive season in style with the highly anticipated Pitingo Christmas Concert in the beautiful town of Marbella! This spectacular event is a highlight of the Christmas calendar\, offering a unique blend of traditional flamenco and soulful Gospel music\, known worldwide as Pitingo’s signature “Soulería.” \nEvent Details & Venue\nThe concert is set to take place on Thursday\, November 27\, 2025\, starting at 20:00h (8:00 PM).\nThis is a free public event\, generously organized by the Ayuntamiento de Marbella (Marbella Town Hall). It immediately follows the official Christmas lights switch-on ceremony\, flooding the street with festive light and music. \n\nArtist: Pitingo (World-renowned Flamenco and Soul artist)\nLocation: Avenida Marqués del Duero\, San Pedro Alcántara\, Marbella\, Spain.\n\nExperience the Magic of “Soulería”\nPitingo’s Christmas show is a must-see for locals and visitors to the Costa del Sol. His powerful voice and innovative fusion of genres—blending deep flamenco roots with American soul classics and traditional villancicos (Spanish Christmas carols)—creates a moving and uplifting start to the holidays. Don’t miss this chance to experience a world-class Christmas concert right in the heart of Marbella.
URL:https://themarbelladirectory.com/event/pitingo-christmas-concert-in-marbella-san-pedro-alcantara-2025/
LOCATION:Avenida Marqués del Duero\, Avenida Marqués del Duero\, San Pedro Alcántara\, Marbella\, Málaga\, 29670\, Spain
CATEGORIES:Activity,Christmas,Concert,Festival,Music Events
ATTACH;FMTTYPE=image/webp:https://themarbelladirectory.com/wp-content/uploads/2025/11/poster_IsIGsOD.webp
ORGANIZER;CN="Ayuntamiento de Marbella":MAILTO:fiestas@marbella.es
END:VEVENT
END:VCALENDAR