BEGIN:VCALENDAR
VERSION:2.0
PRODID:-//The Marbella Directory - ECPv6.15.18//NONSGML v1.0//EN
CALSCALE:GREGORIAN
METHOD:PUBLISH
X-ORIGINAL-URL:https://themarbelladirectory.com
X-WR-CALDESC:Events for The Marbella Directory
REFRESH-INTERVAL;VALUE=DURATION:PT1H
X-Robots-Tag:noindex
X-PUBLISHED-TTL:PT1H
BEGIN:VTIMEZONE
TZID:Europe/Madrid
BEGIN:DAYLIGHT
TZOFFSETFROM:+0100
TZOFFSETTO:+0200
TZNAME:CEST
DTSTART:20250330T010000
END:DAYLIGHT
BEGIN:STANDARD
TZOFFSETFROM:+0200
TZOFFSETTO:+0100
TZNAME:CET
DTSTART:20251026T010000
END:STANDARD
BEGIN:DAYLIGHT
TZOFFSETFROM:+0100
TZOFFSETTO:+0200
TZNAME:CEST
DTSTART:20260329T010000
END:DAYLIGHT
BEGIN:STANDARD
TZOFFSETFROM:+0200
TZOFFSETTO:+0100
TZNAME:CET
DTSTART:20261025T010000
END:STANDARD
BEGIN:DAYLIGHT
TZOFFSETFROM:+0100
TZOFFSETTO:+0200
TZNAME:CEST
DTSTART:20270328T010000
END:DAYLIGHT
BEGIN:STANDARD
TZOFFSETFROM:+0200
TZOFFSETTO:+0100
TZNAME:CET
DTSTART:20271031T010000
END:STANDARD
END:VTIMEZONE
BEGIN:VEVENT
DTSTART;TZID=Europe/Madrid:20260626T220000
DTEND;TZID=Europe/Madrid:20260626T220000
DTSTAMP:20260419T154003
CREATED:20260205T160046Z
LAST-MODIFIED:20260205T160046Z
UID:10001907-1782511200-1782511200@themarbelladirectory.com
SUMMARY:Valeria Castro Live in Málaga 2026: Official Concert Guide
DESCRIPTION:Valeria Castro Returns to Málaga for “El cuerpo después de todo” Tour 2026\nThe celebrated singer-songwriter Valeria Castro performs in Málaga on Friday\, June 26\, 2026. Specifically\, this highly anticipated show at the Plaza de Toros de La Malagueta marks a major stop on her national tour. This event forms part of the prestigious 101 Music Festival Costa del Sol. Consequently\, the performance offers a unique opportunity for fans to experience her new musical chapter live. \nA Mature Artistic Evolution\nValeria Castro presents her second full-length album\, titled “el cuerpo después de todo.” Notably\, the eight-time Latin Grammy winner Carles Campi Campón produced this new work. The record reflects a period of deep artistic and personal maturation for the artist. In fact\, her lyrics now portray a strong woman who faces her fears with bravery. Therefore\, the concert promises a deeply emotive journey through the most profound human feelings. \nPlanning Your Visit to La Malagueta\nThe performance starts promptly at 22:00 (10:00 PM). Attendees should arrive early to enjoy the unique atmosphere of this historic open-air bullring. Because this is a high-demand show\, fans are encouraged to secure their admission in advance. Furthermore\, this professional production consolidates Málaga as a primary destination for live music. Finally\, please note that festival staff may record images during the event for future promotion. \nEvent Schedule \n\nDate: Friday\, June 26\, 2026\nTime: 22:00 (10:00 PM)\nVenue: Plaza de Toros de La Malagueta\, Málaga\nTarget Audience: All publics
URL:https://themarbelladirectory.com/event/valeria-castro-malaga-concert-2026/
LOCATION:Plaza de Toros de La Malagueta\, Paseo de Reding\, 8\, 29016 Málaga\, Spain\, Málaga\, Málaga\, 29016\, Spain
CATEGORIES:Activity,entertainment,Live Performance,Live Show,Music Events
ATTACH;FMTTYPE=image/jpeg:https://themarbelladirectory.com/wp-content/uploads/2026/02/galeria_3508_BdButQHk.jpg
ORGANIZER;CN="Grupo Mundo":MAILTO:info@grupomundo.es
END:VEVENT
BEGIN:VEVENT
DTSTART;TZID=Europe/Madrid:20260627T220000
DTEND;TZID=Europe/Madrid:20260627T220000
DTSTAMP:20260419T154003
CREATED:20260205T160840Z
LAST-MODIFIED:20260205T160840Z
UID:10001908-1782597600-1782597600@themarbelladirectory.com
SUMMARY:Fernando Costa in Málaga 2026: Official 10th Anniversary Guide
DESCRIPTION:Fernando Costa Returns to Málaga: The “Amor y Dolor” 10th Anniversary Tour\nThe renowned rapper Fernando Costa performs in Málaga on Saturday\, June 27\, 2026. Specifically\, this highly anticipated show at the Plaza de Toros de La Malagueta marks a milestone in his career. The concert forms part of the prestigious 101 Music Festival Costa del Sol. Consequently\, fans can expect an explosive performance that explores new rhythms like cumbia and electronic music while staying true to his underground roots. \nA Decade of Urban Music Excellence\nThis tour celebrates the 10th anniversary of his influential project\, “Amor y Dolor.” Fernando Costa is widely recognized as a leading figure in the Spanish urban scene. Throughout the evening\, he will deliver a setlist charged with energy\, sharp lyrics\, and a deep connection with his audience. Furthermore\, the artist describes this new phase as a creative risk that expands his sonic boundaries. Therefore\, the historic bullring provides a professional and atmospheric backdrop for one of the most awaited urban tours of the year. \nPlanning Your Visit to La Malagueta\nThe performance starts promptly at 22:00 (10:00 PM). Attendees should note that the venue is a landmark location for major cultural events in southern Spain. Because this is a high-demand anniversary show\, securing your entry early is highly recommended. This professional production consolidates Málaga as a primary reference for live urban music. \nEvent Schedule \n\nDate: Saturday\, June 27\, 2026\nTime: 22:00 (10:00 PM)\nVenue: Plaza de Toros de La Malagueta\, Málaga
URL:https://themarbelladirectory.com/event/fernandocosta-malaga-concert-2026/
LOCATION:Plaza de Toros de La Malagueta\, Paseo de Reding\, 8\, 29016 Málaga\, Spain\, Málaga\, Málaga\, 29016\, Spain
CATEGORIES:Activity,entertainment,Live Performance,Live Show,Music Events,Nightlife
ATTACH;FMTTYPE=image/jpeg:https://themarbelladirectory.com/wp-content/uploads/2026/02/galeria_3270_IJNji4wq.jpg
ORGANIZER;CN="Grupo Mundo":MAILTO:info@grupomundo.es
END:VEVENT
BEGIN:VEVENT
DTSTART;TZID=Europe/Madrid:20260704T220000
DTEND;TZID=Europe/Madrid:20260704T220000
DTSTAMP:20260419T154003
CREATED:20260206T062757Z
LAST-MODIFIED:20260206T062757Z
UID:10001909-1783202400-1783202400@themarbelladirectory.com
SUMMARY:Lia Kali en Málaga 2026: Guía Oficial del 101 Music Festival
DESCRIPTION:Lia Kali Arrives in Málaga for the “Kaelis” Tour 2026\nThe acclaimed singer-songwriter Lia Kali performs in Málaga on Saturday\, July 4\, 2026. Specifically\, this highly anticipated show at the Plaza de Toros de La Malagueta marks a major stop on her upcoming tour. This event forms part of the prestigious 101 Music Festival Costa del Sol. Consequently\, the performance offers a unique opportunity for fans to experience her new musical chapter\, “Kaelis\,” in a professional live setting. \nA Mature Artistic Evolution\nFollowing the massive success of her 2023 debut album\, “Contra Todo Pronóstico\,” Lia Kali has established herself as a global phenomenon. Her music blends genres like reggae\, jazz\, soul\, rap\, and flamenco into a powerful sonic gift for her audience. In fact\, her new album “Kaelis” represents a personal journey where the artist shares her art as a universal offering. Therefore\, the concert promises a deeply emotive experience that elevates the listeners through her raw talent and powerful vibrations. \nPlanning Your Visit to La Malagueta\nThe performance starts promptly at 22:00 (10:00 PM). Attendees should arrive early to enjoy the unique atmosphere of this historic open-air bullring. Because this is a high-demand show within a consolidated festival\, securing your admission in advance is highly recommended. Furthermore\, this professional production consolidates Málaga as a primary reference for live music. Finally\, please note that festival staff may record images during the event for future promotional use. \nEvent Schedule \n\nDate: Saturday\, July 4\, 2026\nTime: 22:00 (10:00 PM)\nVenue: Plaza de Toros de La Malagueta\, Málaga\nTarget Audience: All publics
URL:https://themarbelladirectory.com/event/lia-kali-malaga-concert-2026/
LOCATION:Plaza de Toros de La Malagueta\, Paseo de Reding\, 8\, 29016 Málaga\, Spain\, Málaga\, Málaga\, 29016\, Spain
CATEGORIES:Live Performance,Live Show,Music Events,Nightlife
ATTACH;FMTTYPE=image/jpeg:https://themarbelladirectory.com/wp-content/uploads/2026/02/galeria_3507_4PeMzu5D.jpg
ORGANIZER;CN="Grupo Mundo":MAILTO:info@grupomundo.es
END:VEVENT
BEGIN:VEVENT
DTSTART;TZID=Europe/Madrid:20260711T220000
DTEND;TZID=Europe/Madrid:20260711T220000
DTSTAMP:20260419T154003
CREATED:20260206T065647Z
LAST-MODIFIED:20260206T065647Z
UID:10001910-1783807200-1783807200@themarbelladirectory.com
SUMMARY:Guitarricadelafuente Live in Málaga 2026: Spanish Leather Tour Guide
DESCRIPTION:Guitarricadelafuente Brings the “Spanish Leather!” Tour to Málaga\nThe captivating voice of Guitarricadelafuente performs at the Plaza de Toros de La Malagueta on Saturday\, July 11\, 2026. This highly anticipated performance is a headline event of the 101 Music Festival Costa del Sol. The concert showcases his second studio album\, Spanish Leather. This project builds upon the raw\, earthy textures of Spanish and Latin American folk. These sounds defined his early success. \nA Modern Reimagining of Tradition\nGuitarricadelafuente continues to evolve his artistic identity. He does this by blending traditional foundations with contemporary innovation. While his roots remain firmly planted in folk\, his new work introduces a deliberate tension. This tension develops between the familiar and the unknown. Consequently\, fans can expect a journey through his greatest hits. The setlist includes Guantanamera\, Agua y Mezcal\, and Mil y Una Noches. He will also perform new compositions like BABIECA! and Full Time Papi. Therefore\, the performance is an unforgettable exploration of music that is both timeless and strikingly original. \nExperience the Magic at La Malagueta\nThe venue\, Plaza de Toros de La Malagueta\, provides an iconic setting for live music in Málaga. This historic bullring is a cornerstone of the city’s cultural landscape. Furthermore\, it offers a unique atmosphere for a professional production of this scale. Because this is a top urban-folk tour\, you should secure tickets in advance. You can find official entries through authorized platforms. For more information on upcoming shows\, check our internal links to other 101 Music Festival events. Additionally\, you can visit the official artist website for global tour dates. Finally\, be aware that staff will document the event through photography and video for promotional purposes. \n\nEvent Schedule\n\nDate: Saturday\, July 11\, 2026\nTime: 22:00 (10:00 PM)\nVenue: Plaza de Toros de La Malagueta\, Málaga
URL:https://themarbelladirectory.com/event/guitarricadelafuente-live-in-malaga-2026-spanish-leather-tour-guide/
LOCATION:Plaza de Toros de La Malagueta\, Paseo de Reding\, 8\, 29016 Málaga\, Spain\, Málaga\, Málaga\, 29016\, Spain
CATEGORIES:Activity,entertainment,Live Performance,Live Show,Music Events,Nightlife
ATTACH;FMTTYPE=image/jpeg:https://themarbelladirectory.com/wp-content/uploads/2026/02/galeria_3065_uyzz6v3r.jpg
ORGANIZER;CN="Grupo Mundo":MAILTO:info@grupomundo.es
END:VEVENT
BEGIN:VEVENT
DTSTART;TZID=Europe/Madrid:20260716T220000
DTEND;TZID=Europe/Madrid:20260716T220000
DTSTAMP:20260419T154003
CREATED:20260206T070259Z
LAST-MODIFIED:20260206T070259Z
UID:10001911-1784239200-1784239200@themarbelladirectory.com
SUMMARY:Marta Santos Live in Málaga 2026: Official 101 Music Festival Guide
DESCRIPTION:Marta Santos Arrives in Málaga for the “Aquí no sobra nadie” Tour 2026\nThe acclaimed singer-songwriter Marta Santos performs in Málaga on Thursday\, July 16\, 2026. Specifically\, this highly anticipated show at the Plaza de Toros de La Malagueta marks a major stop on her national tour to present her new album\, Aquí no sobra nadie. This performance forms part of the prestigious 101 Music Festival Costa del Sol 2026. Consequently\, the event offers a unique opportunity for fans to experience her viral hits in one of the most iconic settings in Andalusia. \nA Meteoritic Rise to Stardom\nMarta Santos hails from Villanueva del Río y Minas in Seville. Initially\, she began her musical journey by recording covers on her phone for a small social media following. However\, her presence on platforms like Instagram and TikTok exploded to over 350\,000 followers in just one year. Her professional debut\, a cover of Las Cosas Pequeñitas\, reached over 5 million views on YouTube and Spotify. Furthermore\, her original single Cerquita de Mí and her chart-topping version of La Bachata cemented her status as a consolidated artist. Today\, she maintains a staggering 2.5 million monthly listeners on Spotify. \nExperience the Energy at La Malagueta\nThe performance starts promptly at 22:00 (10:00 PM). Attendees should arrive early to enjoy the historic atmosphere of the Plaza de Toros de La Malagueta\, a premier location for live music in Málaga Capital. Because this is a high-demand show within a consolidated festival\, securing your admission in advance is highly recommended. Furthermore\, this professional production consolidates Málaga as a primary reference for high-quality live music. Finally\, please note that festival staff may record images and videos during the event for future promotional use. \n\nEvent Schedule\n\nDate: Thursday\, July 16\, 2026\nTime: 22:00 (10:00 PM)\nVenue: Plaza de Toros de La Malagueta\, Málaga\nTarget Audience: All audiences (Todos los públicos)
URL:https://themarbelladirectory.com/event/marta-santos-live-in-malaga-2026-official-101-music-festival-guide/
LOCATION:Plaza de Toros de La Malagueta\, Paseo de Reding\, 8\, 29016 Málaga\, Spain\, Málaga\, Málaga\, 29016\, Spain
CATEGORIES:Activity,entertainment,Live Performance,Live Show,Music Events,Nightlife
ATTACH;FMTTYPE=image/jpeg:https://themarbelladirectory.com/wp-content/uploads/2026/02/galeria_3227_QFWc6iAN.jpg
ORGANIZER;CN="Grupo Mundo":MAILTO:info@grupomundo.es
END:VEVENT
BEGIN:VEVENT
DTSTART;TZID=Europe/Madrid:20260725T220000
DTEND;TZID=Europe/Madrid:20260725T233000
DTSTAMP:20260419T154003
CREATED:20260310T143000Z
LAST-MODIFIED:20260310T143000Z
UID:10001971-1785016800-1785022200@themarbelladirectory.com
SUMMARY:El Arrebato Málaga 2026: Official Guide to "El Viaje Inesperado"
DESCRIPTION:El Arrebato Brings “El Viaje Inesperado” to Málaga\nThe renowned Spanish artist El Arrebato performs in Málaga on Saturday\, July 25\, 2026. This highly anticipated event at the Plaza de Toros La Malagueta marks a major stop on his national tour\, El Viaje Inesperado. Specifically\, the show serves as a celebratory journey through the artist’s most beloved hits while introducing fresh material from his latest creative chapter. Fans can expect a night filled with the signature rumba-pop energy and emotional depth that have defined his career for over two decades. \nA Night of Celebration and Connection\nEl Viaje Inesperado translates to “The Unexpected Journey\,” a theme that reflects the artist’s view of life as a series of beautiful\, unpredictable turns. The concert promises an immersive experience where music acts as a bridge between the performer and the audience. Furthermore\, the production highlights El Arrebato’s ability to find beauty in the unexpected\, blending high-energy stage presence with moments of intimate storytelling. Consequently\, the evening provides more than just a standard concert; it is a shared celebration of resilience and joy. \nExperience the Event at Plaza de Toros La Malagueta\nThe performance takes place at the historic Plaza de Toros de La Malagueta\, one of Málaga’s most iconic and atmospheric outdoor venues. Located in the Paseo de Reding\, this landmark provides a professional and grand setting ideal for large-scale summer music festivals. Because this is a high-demand event featuring one of Spain’s most cherished artists\, securing your admission in advance is essential. Doors open promptly at 20:00h\, with the main performance scheduled to begin at 22:00h. Therefore\, join the crowd for an unforgettable night under the Mediterranean stars. \nEvent Schedule \n\nDate: Saturday\, July 25\, 2026\nDoors Open: 20:00 (8:00 PM)\nConcert Starts: 22:00 (10:00 PM)\nVenue: Plaza de Toros de La Malagueta\, Málaga\nTicket Price: From 38.50 EUR
URL:https://themarbelladirectory.com/event/el-arrebato-malaga-concert-2026/
LOCATION:Plaza de toros de Málaga\, Paseo de Reding\, 8\, 29016 Málaga\, Spain\, Málaga\, Málaga\, 29016\, Spain
CATEGORIES:Concert,entertainment,Live Show,Music Events
ATTACH;FMTTYPE=image/jpeg:https://themarbelladirectory.com/wp-content/uploads/2026/03/galeria_3551_uw4y5yc7.jpg
ORGANIZER;CN="Grupo Mundo":MAILTO:info@grupomundo.es
END:VEVENT
BEGIN:VEVENT
DTSTART;TZID=Europe/Madrid:20260731T200000
DTEND;TZID=Europe/Madrid:20260731T230000
DTSTAMP:20260419T154003
CREATED:20260325T041446Z
LAST-MODIFIED:20260325T041446Z
UID:10002039-1785528000-1785538800@themarbelladirectory.com
SUMMARY:Mónica Naranjo Greatest Hits Málaga 2026: Official Guide
DESCRIPTION:Experience the Magic of Mónica Naranjo Live in Málaga\nThe legendary Spanish pop icon Mónica Naranjo arrives in Málaga on Friday\, July 31\, 2026. This historic performance takes place at the majestic Plaza de Toros de La Malagueta. Specifically\, the event is a centerpiece of the 101 Music Festival Costa del Sol. The “Greatest Hits Tour 2026” celebrates her remarkable 30-year career with a high-energy production. For one night only\, the venue will transform into a stage for one of the most powerful voices in Spanish music history. \nA Grand Celebration of Three Decades in Music\nMónica Naranjo is famous for her incredible vocal range and dramatic stage presence. This anniversary tour features a massive production with a live band\, backup singers\, and professional dancers. During the concert\, she will perform her most iconic anthems that defined an era. Fans can expect to hear legendary tracks such as Desátame\, Sobreviviré\, and Pantera en libertad. Furthermore\, the setlist includes her more recent hits like Por un like. This combination of classic nostalgia and modern pop ensures a dynamic experience for every attendee. \nWitness a Masterpiece at La Malagueta\nThe Plaza de Toros de La Malagueta provides a historic and open-air atmosphere for this summer spectacle. Located in the heart of Málaga\, this venue is a cultural landmark. Doors are scheduled to open at 20:00\, allowing guests to enjoy the Mediterranean evening before the show begins at 22:00. Because this is one of the most anticipated tours of the 2026 season\, securing your tickets in advance is highly recommended. Join the local community and international visitors for a night of pure musical power under the stars of the Costa del Sol. \nEvent Schedule \n\nDate: Friday\, July 31\, 2026\nDoors Open: 20:00 (8:00 PM)\nShow Starts: 22:00 (10:00 PM)\nVenue: Plaza de Toros de Málaga (La Malagueta)\nTour Title: Greatest Hits Concerts 2026
URL:https://themarbelladirectory.com/event/monica-naranjo-greatest-hits-malaga-2026/
LOCATION:Plaza de toros de Málaga\, Paseo de Reding\, 8\, 29016 Málaga\, Spain\, Málaga\, Málaga\, 29016\, Spain
CATEGORIES:Concert,entertainment,Music Events
ATTACH;FMTTYPE=image/jpeg:https://themarbelladirectory.com/wp-content/uploads/2026/03/MonicaNaranjo-e1770134173196-1024x440-1.jpg
ORGANIZER;CN="Grupo Mundo":MAILTO:info@grupomundo.es
END:VEVENT
BEGIN:VEVENT
DTSTART;TZID=Europe/Madrid:20261002T200000
DTEND;TZID=Europe/Madrid:20261002T230000
DTSTAMP:20260419T154003
CREATED:20260121T033828Z
LAST-MODIFIED:20260121T033828Z
UID:10001865-1790971200-1790982000@themarbelladirectory.com
SUMMARY:Sidecars "Everest Tour" Hits Málaga in 2026
DESCRIPTION:Sidecars “Everest Tour” Hits Málaga in 2026\nThe acclaimed Spanish rock band Sidecars has announced a major stop in Málaga as part of their highly anticipated Everest Tour. Following the successful release of their latest album\, Everest\, the group is embarking on a nationwide journey to celebrate their new sound with their dedicated fanbase. On Friday\, October 2\, 2026\, the band will take the stage at the iconic Sala París 15 for a night of authentic pop-rock. \nA Milestone for Spanish Pop-Rock\nFormed in 2006\, Sidecars has become a definitive staple of the Spanish music scene. They are widely known for their polished melodies and heartfelt lyrics that resonate with listeners of all ages. This tour marks a significant milestone for the band. Consequently\, they are bringing their new hits and classic anthems to one of Málaga’s premier live music venues. \nAttendees can expect an energetic atmosphere in a professional setting. Specifically\, Sala París 15 has hosted top-tier national and international talent for over a decade. Because this venue is renowned for its excellent sound quality\, the performance will be a highlight of the season. \nSecure Your Tickets Today\nTickets for this landmark performance are available now. Specifically\, early bird prices start at 33€ plus management fees. Given the band’s immense popularity and the high demand for this specific tour\, fans are encouraged to secure their entry early to avoid disappointment. \nIn conclusion\, the Everest presentation tour promises an unforgettable live experience. Whether you are a lifelong follower or new to their music\, this concert offers a unique window into the best of modern Spanish rock. Therefore\, we recommend booking your seats as soon as possible through official portals like malagaentradas.com. \nEvent Schedule \n\nDate: Friday\, October 2\, 2026.\nDoors Open: 20:00 (8:00 PM).\nConcert Starts: 21:00 (9:00 PM).\nVenue: Sala París 15\, Málaga.
URL:https://themarbelladirectory.com/event/sidecars-everest-tour-malaga-2026/
LOCATION:Sala París 15\, Calle la Orotava\, 25\, 27\, 29006 Málaga\, Spain\, Málaga\, Málaga\, 29006\, Spain
CATEGORIES:Concert,entertainment,Live Performance,Live Show,Music Events
ATTACH;FMTTYPE=image/jpeg:https://themarbelladirectory.com/wp-content/uploads/2026/01/MLG-Sidecars-Gira-26-A3-edit-1086x1536-1.jpg
ORGANIZER;CN="Grupo Mundo":MAILTO:info@grupomundo.es
END:VEVENT
END:VCALENDAR