BEGIN:VCALENDAR
VERSION:2.0
PRODID:-//The Marbella Directory - ECPv6.15.18//NONSGML v1.0//EN
CALSCALE:GREGORIAN
METHOD:PUBLISH
X-ORIGINAL-URL:https://themarbelladirectory.com
X-WR-CALDESC:Events for The Marbella Directory
REFRESH-INTERVAL;VALUE=DURATION:PT1H
X-Robots-Tag:noindex
X-PUBLISHED-TTL:PT1H
BEGIN:VTIMEZONE
TZID:Europe/Madrid
BEGIN:DAYLIGHT
TZOFFSETFROM:+0100
TZOFFSETTO:+0200
TZNAME:CEST
DTSTART:20240331T010000
END:DAYLIGHT
BEGIN:STANDARD
TZOFFSETFROM:+0200
TZOFFSETTO:+0100
TZNAME:CET
DTSTART:20241027T010000
END:STANDARD
BEGIN:DAYLIGHT
TZOFFSETFROM:+0100
TZOFFSETTO:+0200
TZNAME:CEST
DTSTART:20250330T010000
END:DAYLIGHT
BEGIN:STANDARD
TZOFFSETFROM:+0200
TZOFFSETTO:+0100
TZNAME:CET
DTSTART:20251026T010000
END:STANDARD
BEGIN:DAYLIGHT
TZOFFSETFROM:+0100
TZOFFSETTO:+0200
TZNAME:CEST
DTSTART:20260329T010000
END:DAYLIGHT
BEGIN:STANDARD
TZOFFSETFROM:+0200
TZOFFSETTO:+0100
TZNAME:CET
DTSTART:20261025T010000
END:STANDARD
BEGIN:DAYLIGHT
TZOFFSETFROM:+0100
TZOFFSETTO:+0200
TZNAME:CEST
DTSTART:20270328T010000
END:DAYLIGHT
BEGIN:STANDARD
TZOFFSETFROM:+0200
TZOFFSETTO:+0100
TZNAME:CET
DTSTART:20271031T010000
END:STANDARD
END:VTIMEZONE
BEGIN:VEVENT
DTSTART;VALUE=DATE:20251213
DTEND;VALUE=DATE:20260107
DTSTAMP:20260426T035101
CREATED:20251120T150522Z
LAST-MODIFIED:20251120T150522Z
UID:10000572-1765584000-1767743999@themarbelladirectory.com
SUMMARY:Christmas at Puerto Marina 2025: Ice Rink & Market by the Sea
DESCRIPTION:Experience a Unique Christmas at Puerto Marina\nDuring the 2025 holiday season\, Puerto Marina offers one of the most picturesque Christmas settings in Málaga. Specifically\, the famous Dársena de Levante area transforms into a festive hub. Therefore\, if you want to combine luxury yachts with holiday cheer\, this is the perfect location. \nThe Ice Rink by the Sea\nUndoubtedly\, the main attraction is the outdoor Ice Rink (Pista de Hielo). Located right next to the water\, it allows you to skate while enjoying views of the boats. Usually\, the rink opens in mid-December and stays open until Three Kings Day. For this reason\, it is a favorite activity for families and couples alike. \nChristmas Market and Shopping\nIn addition to skating\, visitors can stroll through the charming Christmas Market. Here\, wooden stalls offer a variety of local handicrafts\, gifts\, and festive treats. Moreover\, the surrounding boutiques in the marina often have special holiday offers. Consequently\, it is an excellent spot for last-minute Christmas shopping. \nThe Arrival of the Three Kings\nFinally\, Puerto Marina hosts a very special event on January 5\, 2026. Uniquely\, The Three Kings (Los Reyes Magos) arrive by boat! After disembarking at the Dársena de Levante\, they greet the children before starting their grand parade. Thus\, this maritime arrival is a must-see event.
URL:https://themarbelladirectory.com/event/christmas-at-puerto-marina-2025-ice-rink-market-by-the-sea/
LOCATION:Puerto Marina Benalmádena\, Avenida del Puerto Deportivo\, Benalmádena\, Málaga\, 29630\, Spain
CATEGORIES:Activity,Christmas,entertainment,Festival,Outdoor Attraction,Traditional Festival
ATTACH;FMTTYPE=image/png:https://themarbelladirectory.com/wp-content/uploads/2025/11/Gemini_Generated_Image_1zeotf1zeotf1zeo.png
ORGANIZER;CN="Puerto Deportivo de Benalm%C3%A1dena":MAILTO:info@puertobenalmadena.es
END:VEVENT
END:VCALENDAR